BEGIN:VCALENDAR
VERSION:2.0
PRODID:-//Förderverein Anne-Frank-Grundschule Teltow e.V. - ECPv6.15.20//NONSGML v1.0//EN
CALSCALE:GREGORIAN
METHOD:PUBLISH
X-WR-CALNAME:Förderverein Anne-Frank-Grundschule Teltow e.V.
X-ORIGINAL-URL:https://www.fv-annefrankschule.de
X-WR-CALDESC:Veranstaltungen für Förderverein Anne-Frank-Grundschule Teltow e.V.
REFRESH-INTERVAL;VALUE=DURATION:PT1H
X-Robots-Tag:noindex
X-PUBLISHED-TTL:PT1H
BEGIN:VTIMEZONE
TZID:Europe/Berlin
BEGIN:DAYLIGHT
TZOFFSETFROM:+0100
TZOFFSETTO:+0200
TZNAME:CEST
DTSTART:20250330T010000
END:DAYLIGHT
BEGIN:STANDARD
TZOFFSETFROM:+0200
TZOFFSETTO:+0100
TZNAME:CET
DTSTART:20251026T010000
END:STANDARD
BEGIN:DAYLIGHT
TZOFFSETFROM:+0100
TZOFFSETTO:+0200
TZNAME:CEST
DTSTART:20260329T010000
END:DAYLIGHT
BEGIN:STANDARD
TZOFFSETFROM:+0200
TZOFFSETTO:+0100
TZNAME:CET
DTSTART:20261025T010000
END:STANDARD
BEGIN:DAYLIGHT
TZOFFSETFROM:+0100
TZOFFSETTO:+0200
TZNAME:CEST
DTSTART:20270328T010000
END:DAYLIGHT
BEGIN:STANDARD
TZOFFSETFROM:+0200
TZOFFSETTO:+0100
TZNAME:CET
DTSTART:20271031T010000
END:STANDARD
END:VTIMEZONE
BEGIN:VEVENT
DTSTART;TZID=Europe/Berlin:20260427T183000
DTEND;TZID=Europe/Berlin:20260427T203000
DTSTAMP:20260421T150115
CREATED:20260216T184638Z
LAST-MODIFIED:20260216T184638Z
UID:719-1777314600-1777321800@www.fv-annefrankschule.de
SUMMARY:Mitgliederversammlung
DESCRIPTION:
URL:https://www.fv-annefrankschule.de/event/2026-04-27-mitgliederversammlung/
LOCATION:Aula\, John-Schehr-Str. 18\, Teltow\, Brandenburg\, 14513\, Germany
CATEGORIES:Mitgliederversammlung
END:VEVENT
END:VCALENDAR